BEGIN:VCALENDAR
VERSION:2.0
PRODID:https://www.spdfraktion.de/
METHOD:PUBLISH
BEGIN:VEVENT
UID: 461c18b6ff3453f75226c9cb59cb0af1@spdfraktion.de
SUMMARY: Kulturschaffende in der Corona-Pandemie – Ohne Kunst und Kultur ist das gesellschaftliche Leben ärmer!
DESCRIPTION: SPD-Fraktion im Online-Dialog. Mehr unter https://www.spdfraktion.de/node/5243955
LOCATION: Fraktion vor Ort digital, Elisabethstraße 32, 58636 Iserlohn
CLASS:PUBLIC
DTSTAMP:20210512T190000
DTSTART:20210512T190000
DTEND:20210512T203000
SEQUENCE:0
END:VEVENT
END:VCALENDAR
