BEGIN:VCALENDAR
VERSION:2.0
PRODID:https://www.spdfraktion.de/
METHOD:PUBLISH
BEGIN:VEVENT
UID: 68c75d94190aaa0e319b58e923e99fe3@spdfraktion.de
SUMMARY: Würdevoll leben, würdevoll sterben
DESCRIPTION: Diskussionsveranstaltung. Mehr unter https://www.spdfraktion.de/node/41999
LOCATION: Haus am Klostergarten, Klosterstraße 4, 24211 Preetz
CLASS:PUBLIC
DTSTAMP:20150212T190000
DTSTART:20150212T190000
DTEND:20150212T210000
SEQUENCE:0
END:VEVENT
END:VCALENDAR
