BEGIN:VCALENDAR
VERSION:2.0
PRODID:https://www.spdfraktion.de/
METHOD:PUBLISH
BEGIN:VEVENT
UID: e129fb3798d317171dc9bd7d2cb43de3@spdfraktion.de
SUMMARY: Integration geht uns alle an
DESCRIPTION: Gleichberechtigt miteinander leben.. Mehr unter https://www.spdfraktion.de/node/41252
LOCATION: SMS am Schulzentrum Nordwest, Vogesenstraße 14, 77652 Offenburg
CLASS:PUBLIC
DTSTAMP:20130206T190000
DTSTART:20130206T190000
DTEND:20130206T210000
SEQUENCE:0
END:VEVENT
END:VCALENDAR
