BEGIN:VCALENDAR
VERSION:2.0
PRODID:https://www.spdfraktion.de/
METHOD:PUBLISH
BEGIN:VEVENT
UID: 62b9868335fc381363065ca4ca58b33d@spdfraktion.de
SUMMARY: Integration geht  uns alle an
DESCRIPTION: Anforderungen an eine  moderne Integrationspolitik. Mehr unter https://www.spdfraktion.de/node/41080
LOCATION: Egon-Bahr-Haus, Goethestraße 16, 31224 Peine
CLASS:PUBLIC
DTSTAMP:20120920T180000
DTSTART:20120920T180000
DTEND:20120920T194500
SEQUENCE:0
END:VEVENT
END:VCALENDAR
