BEGIN:VCALENDAR
VERSION:2.0
PRODID:https://www.spdfraktion.de/
METHOD:PUBLISH
BEGIN:VEVENT
UID: 0067035172fc786488ff7c6317ed88c9@spdfraktion.de
SUMMARY: Inklusion im Sport
DESCRIPTION: Umsetzung im Breitensport. Mehr unter https://www.spdfraktion.de/node/41060
LOCATION: Bürgerhaus Wilgersdorf, Hauptstr. 2b, 57234 Wilnsdorf
CLASS:PUBLIC
DTSTAMP:20120822T180000
DTSTART:20120822T180000
DTEND:20120822T200000
SEQUENCE:0
END:VEVENT
END:VCALENDAR
