BEGIN:VCALENDAR
VERSION:2.0
PRODID:https://www.spdfraktion.de/
METHOD:PUBLISH
BEGIN:VEVENT
UID: f6e417e85eac9caad1d35a742e0cfd3e@spdfraktion.de
SUMMARY: Internationaler Frauentag
DESCRIPTION: 100 Jahre Frauenwahlrecht in  Deutschland – Gleichstellung  weltweit durchsetzen. Mehr unter https://www.spdfraktion.de/node/3423176
LOCATION: Bürgerhaus Ratingen, Marktplatz 1, 40878 Ratingen
CLASS:PUBLIC
DTSTAMP:20190306T190000
DTSTART:20190306T190000
DTEND:20190306T210000
SEQUENCE:0
END:VEVENT
END:VCALENDAR
